BEGIN:VCALENDAR
VERSION:2.0
PRODID:-//eventon.com NONSGML v1.0//EN
CALSCALE:GREGORIAN
METHOD:PUBLISH
BEGIN:VEVENT
UID:69e5ed04ef889
DTSTAMP:20260420T090820Z
DTSTART:20240918T200000Z
DTEND:20240918T220000Z
LOCATION:Tunnel Tap Micropub 57 Baslow Road\,  Totley\,  Sheffield\,  S17 4DL
SUMMARY:Tunnel Tap Comedy
DESCRIPTION:A small Venue located in a microbrewery. A charming little pub 
 with great real ales! This is a PWYW (Pay what You want) Event. Simply pay 
 a cash amount after the event based on how much you enjoyed it\,  how good 
 the Acts were and what you though of the[..]\nhttps://laffacake.com/events/
 tunnel-tap-comedy-180924/
URL:https://laffacake.com/events/tunnel-tap-comedy-180924/
END:VEVENT
END:VCALENDAR