BEGIN:VCALENDAR
VERSION:2.0
PRODID:-//eventon.com NONSGML v1.0//EN
CALSCALE:GREGORIAN
METHOD:PUBLISH
BEGIN:VEVENT
UID:69e4f05d342bb
DTSTAMP:20260419T151021Z
DTSTART:20260228T200000Z
DTEND:20260228T223000Z
LOCATION:Brimington Community Ctr Heywood St\,  Brimington
SUMMARY:Brimington Comedy Triple
DESCRIPTION:Local venue seating over 200 with easy access to surrounding pu
 bs. Parking on street or within a very short walk. With disabled access\,  
 this large room will provide a great setting for such an unbelievable lineu
 p! This is a fully seated\,  ticketed event.Physical tickets are available 
 from selected outlets.This venue[..]\nhttps://laffacake.com/events/brimingt
 on-comedy-triple-280226/
URL:https://laffacake.com/events/brimington-comedy-triple-280226/
END:VEVENT
END:VCALENDAR